BEGIN:VCALENDAR
VERSION:2.0
PRODID:-//Columbia (MD) Alumnae Chapter Delta Sigma Theta - ECPv6.15.20//NONSGML v1.0//EN
CALSCALE:GREGORIAN
METHOD:PUBLISH
X-WR-CALNAME:Columbia (MD) Alumnae Chapter Delta Sigma Theta
X-ORIGINAL-URL:https://columbiamddst.org
X-WR-CALDESC:Events for Columbia (MD) Alumnae Chapter Delta Sigma Theta
REFRESH-INTERVAL;VALUE=DURATION:PT1H
X-Robots-Tag:noindex
X-PUBLISHED-TTL:PT1H
BEGIN:VTIMEZONE
TZID:America/New_York
BEGIN:DAYLIGHT
TZOFFSETFROM:-0500
TZOFFSETTO:-0400
TZNAME:EDT
DTSTART:20240310T070000
END:DAYLIGHT
BEGIN:STANDARD
TZOFFSETFROM:-0400
TZOFFSETTO:-0500
TZNAME:EST
DTSTART:20241103T060000
END:STANDARD
BEGIN:DAYLIGHT
TZOFFSETFROM:-0500
TZOFFSETTO:-0400
TZNAME:EDT
DTSTART:20250309T070000
END:DAYLIGHT
BEGIN:STANDARD
TZOFFSETFROM:-0400
TZOFFSETTO:-0500
TZNAME:EST
DTSTART:20251102T060000
END:STANDARD
BEGIN:DAYLIGHT
TZOFFSETFROM:-0500
TZOFFSETTO:-0400
TZNAME:EDT
DTSTART:20260308T070000
END:DAYLIGHT
BEGIN:STANDARD
TZOFFSETFROM:-0400
TZOFFSETTO:-0500
TZNAME:EST
DTSTART:20261101T060000
END:STANDARD
END:VTIMEZONE
BEGIN:VEVENT
DTSTART;TZID=America/New_York:20251115T133000
DTEND;TZID=America/New_York:20251115T163000
DTSTAMP:20260423T042939
CREATED:20251120T191119Z
LAST-MODIFIED:20251120T191119Z
UID:4920-1763213400-1763224200@columbiamddst.org
SUMMARY:Food and Donations Drive
DESCRIPTION:
URL:https://columbiamddst.org/event/food-and-donations-drive/
LOCATION:MD
END:VEVENT
BEGIN:VEVENT
DTSTART;TZID=America/New_York:20251118T130000
DTEND;TZID=America/New_York:20251118T150000
DTSTAMP:20260423T042939
CREATED:20251120T190932Z
LAST-MODIFIED:20251120T190932Z
UID:4917-1763470800-1763478000@columbiamddst.org
SUMMARY:A Dear Delta Movie Day (CAC-only)
DESCRIPTION:
URL:https://columbiamddst.org/event/a-dear-delta-movie-day-cac-only/
LOCATION:MD
END:VEVENT
BEGIN:VEVENT
DTSTART;TZID=America/New_York:20251120T183000
DTEND;TZID=America/New_York:20251120T203000
DTSTAMP:20260423T042939
CREATED:20251120T190348Z
LAST-MODIFIED:20251120T190348Z
UID:4910-1763663400-1763670600@columbiamddst.org
SUMMARY:Drive Made Simple (CAC only)
DESCRIPTION:
URL:https://columbiamddst.org/event/drive-made-simple-cac-only/
LOCATION:Webinar
END:VEVENT
BEGIN:VEVENT
DTSTART;TZID=America/New_York:20251122T083000
DTEND;TZID=America/New_York:20251122T093000
DTSTAMP:20260423T042939
CREATED:20251120T185803Z
LAST-MODIFIED:20251120T185803Z
UID:4901-1763800200-1763803800@columbiamddst.org
SUMMARY:CAC Wellbeing Walk
DESCRIPTION:
URL:https://columbiamddst.org/event/cac-wellbeing-walk/
LOCATION:The Columbia Mall\, Columbia\, MD
END:VEVENT
BEGIN:VEVENT
DTSTART;TZID=America/New_York:20251122T140000
DTEND;TZID=America/New_York:20251122T170000
DTSTAMP:20260423T042939
CREATED:20251120T190809Z
LAST-MODIFIED:20251120T191410Z
UID:4913-1763820000-1763830800@columbiamddst.org
SUMMARY:Trucker Junk Hat Decorating (CAC-Only)
DESCRIPTION:
URL:https://columbiamddst.org/event/trucker-junk-hat-decorating-cac-only/
LOCATION:Johns Hopkins Applied Physics Lab
END:VEVENT
BEGIN:VEVENT
DTSTART;TZID=America/New_York:20251122T150000
DTEND;TZID=America/New_York:20251122T170000
DTSTAMP:20260423T042939
CREATED:20251120T190025Z
LAST-MODIFIED:20251120T190025Z
UID:4906-1763823600-1763830800@columbiamddst.org
SUMMARY:Gynecologic Cancer Awareness Event
DESCRIPTION:
URL:https://columbiamddst.org/event/gynecologic-cancer-awareness-event/
LOCATION:Howard County Community College
END:VEVENT
END:VCALENDAR