BEGIN:VCALENDAR
VERSION:2.0
PRODID:-//Columbia (MD) Alumnae Chapter Delta Sigma Theta - ECPv6.15.20//NONSGML v1.0//EN
CALSCALE:GREGORIAN
METHOD:PUBLISH
X-WR-CALNAME:Columbia (MD) Alumnae Chapter Delta Sigma Theta
X-ORIGINAL-URL:https://columbiamddst.org
X-WR-CALDESC:Events for Columbia (MD) Alumnae Chapter Delta Sigma Theta
REFRESH-INTERVAL;VALUE=DURATION:PT1H
X-Robots-Tag:noindex
X-PUBLISHED-TTL:PT1H
BEGIN:VTIMEZONE
TZID:America/New_York
BEGIN:DAYLIGHT
TZOFFSETFROM:-0500
TZOFFSETTO:-0400
TZNAME:EDT
DTSTART:20230312T070000
END:DAYLIGHT
BEGIN:STANDARD
TZOFFSETFROM:-0400
TZOFFSETTO:-0500
TZNAME:EST
DTSTART:20231105T060000
END:STANDARD
BEGIN:DAYLIGHT
TZOFFSETFROM:-0500
TZOFFSETTO:-0400
TZNAME:EDT
DTSTART:20240310T070000
END:DAYLIGHT
BEGIN:STANDARD
TZOFFSETFROM:-0400
TZOFFSETTO:-0500
TZNAME:EST
DTSTART:20241103T060000
END:STANDARD
BEGIN:DAYLIGHT
TZOFFSETFROM:-0500
TZOFFSETTO:-0400
TZNAME:EDT
DTSTART:20250309T070000
END:DAYLIGHT
BEGIN:STANDARD
TZOFFSETFROM:-0400
TZOFFSETTO:-0500
TZNAME:EST
DTSTART:20251102T060000
END:STANDARD
END:VTIMEZONE
BEGIN:VEVENT
DTSTART;TZID=America/New_York:20240305T183000
DTEND;TZID=America/New_York:20240305T193000
DTSTAMP:20260423T042944
CREATED:20230926T234028Z
LAST-MODIFIED:20230928T142638Z
UID:3310-1709663400-1709667000@columbiamddst.org
SUMMARY:Fundraising Committee Meeting
DESCRIPTION:Chair: Soror Khalida Burton 3rdVP@columbiamddst.org \nVirtual \n 
URL:https://columbiamddst.org/event/fundraising-committee-meeting-10/
LOCATION:MD
END:VEVENT
BEGIN:VEVENT
DTSTART;TZID=America/New_York:20240323T120000
DTEND;TZID=America/New_York:20240323T140000
DTSTAMP:20260423T042944
CREATED:20230926T234236Z
LAST-MODIFIED:20230926T234236Z
UID:3312-1711195200-1711202400@columbiamddst.org
SUMMARY:Chapter Meeting
DESCRIPTION:JHU Applied Physics Lab
URL:https://columbiamddst.org/event/chapter-meeting-7/
LOCATION:MD
END:VEVENT
END:VCALENDAR