BEGIN:VCALENDAR
VERSION:2.0
PRODID:-//Columbia (MD) Alumnae Chapter Delta Sigma Theta - ECPv6.15.20//NONSGML v1.0//EN
CALSCALE:GREGORIAN
METHOD:PUBLISH
X-WR-CALNAME:Columbia (MD) Alumnae Chapter Delta Sigma Theta
X-ORIGINAL-URL:https://columbiamddst.org
X-WR-CALDESC:Events for Columbia (MD) Alumnae Chapter Delta Sigma Theta
REFRESH-INTERVAL;VALUE=DURATION:PT1H
X-Robots-Tag:noindex
X-PUBLISHED-TTL:PT1H
BEGIN:VTIMEZONE
TZID:America/New_York
BEGIN:DAYLIGHT
TZOFFSETFROM:-0500
TZOFFSETTO:-0400
TZNAME:EDT
DTSTART:20240310T070000
END:DAYLIGHT
BEGIN:STANDARD
TZOFFSETFROM:-0400
TZOFFSETTO:-0500
TZNAME:EST
DTSTART:20241103T060000
END:STANDARD
BEGIN:DAYLIGHT
TZOFFSETFROM:-0500
TZOFFSETTO:-0400
TZNAME:EDT
DTSTART:20250309T070000
END:DAYLIGHT
BEGIN:STANDARD
TZOFFSETFROM:-0400
TZOFFSETTO:-0500
TZNAME:EST
DTSTART:20251102T060000
END:STANDARD
BEGIN:DAYLIGHT
TZOFFSETFROM:-0500
TZOFFSETTO:-0400
TZNAME:EDT
DTSTART:20260308T070000
END:DAYLIGHT
BEGIN:STANDARD
TZOFFSETFROM:-0400
TZOFFSETTO:-0500
TZNAME:EST
DTSTART:20261101T060000
END:STANDARD
END:VTIMEZONE
BEGIN:VEVENT
DTSTART;TZID=America/New_York:20251028T190000
DTEND;TZID=America/New_York:20251028T200000
DTSTAMP:20260421T044557
CREATED:20251015T160935Z
LAST-MODIFIED:20251015T160935Z
UID:4871-1761678000-1761681600@columbiamddst.org
SUMMARY:Talk About it Tuesday with Delta Dears (For CAC-DST Sorors Only)
DESCRIPTION:As conversations around diversity\, equity\, and inclusion face growing resistance\, many are asking: Are we seeing echoes of the pre–Civil Rights workplace? \nThis panel\, featuring the wisdom and lived experiences of the Delta Dears\, will examine the parallels between past and present. Together\, we will reflect on the struggles that shaped our history\, explore how current challenges threaten hard-won gains\, and discuss how advocacy\, resilience\, and legacy can ensure progress continues for generations to come.   \nSee chapter announcements for registration details.
URL:https://columbiamddst.org/event/talk-about-it-tuesday-with-delta-dears-for-cac-dst-sorors-only/
LOCATION:Webinar
END:VEVENT
END:VCALENDAR