BEGIN:VCALENDAR
VERSION:2.0
PRODID:-//Columbia (MD) Alumnae Chapter Delta Sigma Theta - ECPv6.15.20//NONSGML v1.0//EN
CALSCALE:GREGORIAN
METHOD:PUBLISH
X-ORIGINAL-URL:https://columbiamddst.org
X-WR-CALDESC:Events for Columbia (MD) Alumnae Chapter Delta Sigma Theta
REFRESH-INTERVAL;VALUE=DURATION:PT1H
X-Robots-Tag:noindex
X-PUBLISHED-TTL:PT1H
BEGIN:VTIMEZONE
TZID:America/New_York
BEGIN:DAYLIGHT
TZOFFSETFROM:-0500
TZOFFSETTO:-0400
TZNAME:EDT
DTSTART:20240310T070000
END:DAYLIGHT
BEGIN:STANDARD
TZOFFSETFROM:-0400
TZOFFSETTO:-0500
TZNAME:EST
DTSTART:20241103T060000
END:STANDARD
BEGIN:DAYLIGHT
TZOFFSETFROM:-0500
TZOFFSETTO:-0400
TZNAME:EDT
DTSTART:20250309T070000
END:DAYLIGHT
BEGIN:STANDARD
TZOFFSETFROM:-0400
TZOFFSETTO:-0500
TZNAME:EST
DTSTART:20251102T060000
END:STANDARD
BEGIN:DAYLIGHT
TZOFFSETFROM:-0500
TZOFFSETTO:-0400
TZNAME:EDT
DTSTART:20260308T070000
END:DAYLIGHT
BEGIN:STANDARD
TZOFFSETFROM:-0400
TZOFFSETTO:-0500
TZNAME:EST
DTSTART:20261101T060000
END:STANDARD
END:VTIMEZONE
BEGIN:VEVENT
DTSTART;TZID=America/New_York:20251019T140000
DTEND;TZID=America/New_York:20251019T160000
DTSTAMP:20260421T044039
CREATED:20251015T161213Z
LAST-MODIFIED:20251015T161213Z
UID:4876-1760882400-1760889600@columbiamddst.org
SUMMARY:Reclamation Roundup
DESCRIPTION:Get ready for one of our favorite membership activities! Come out for FUN at our annual Reclamation Roundup. This event for members of Delta Sigma Theta only.
URL:https://columbiamddst.org/event/reclamation-roundup/
LOCATION:All Board Lerning Center
END:VEVENT
END:VCALENDAR